BEGIN:VCALENDAR
VERSION:2.0
PRODID:-//Inner Circle - ECPv6.15.13//NONSGML v1.0//EN
CALSCALE:GREGORIAN
METHOD:PUBLISH
X-ORIGINAL-URL:https://www.innercircle-ent.com
X-WR-CALDESC:Events for Inner Circle
REFRESH-INTERVAL;VALUE=DURATION:PT1H
X-Robots-Tag:noindex
X-PUBLISHED-TTL:PT1H
BEGIN:VTIMEZONE
TZID:UTC
BEGIN:STANDARD
TZOFFSETFROM:+0000
TZOFFSETTO:+0000
TZNAME:UTC
DTSTART:20230101T000000
END:STANDARD
END:VTIMEZONE
BEGIN:VEVENT
DTSTART;TZID=UTC:20250223T160000
DTEND;TZID=UTC:20250223T210000
DTSTAMP:20260422T101103
CREATED:20240930T004645Z
LAST-MODIFIED:20251115T025823Z
UID:100149-1740326400-1740344400@www.innercircle-ent.com
SUMMARY:Wedding Bishop ShaahraGapan
DESCRIPTION:
URL:https://www.innercircle-ent.com/event/wedding-bishop-shaahragapan/
CATEGORIES:Holy Events,Wedding Ceremony
END:VEVENT
BEGIN:VEVENT
DTSTART;TZID=UTC:20241117T130000
DTEND;TZID=UTC:20241117T170000
DTSTAMP:20260422T101103
CREATED:20240926T172835Z
LAST-MODIFIED:20240929T111748Z
UID:100100-1731848400-1731862800@www.innercircle-ent.com
SUMMARY:Wedding Princess Bayashan & Top Officer Mayan Ahchaad
DESCRIPTION:Holy Event – Wedding Ceremony
URL:https://www.innercircle-ent.com/event/wedding-princess-bayashan-top-officer-mayan-ahchaad/
CATEGORIES:Holy Events,Wedding Ceremony
END:VEVENT
BEGIN:VEVENT
DTSTART;TZID=UTC:20241027T180000
DTEND;TZID=UTC:20241027T220000
DTSTAMP:20260422T101103
CREATED:20241026T225609Z
LAST-MODIFIED:20241026T230135Z
UID:100153-1730052000-1730066400@www.innercircle-ent.com
SUMMARY:Captain 10K Yashiyah Wedding
DESCRIPTION:
URL:https://www.innercircle-ent.com/event/captain-10k-yashiyah-wedding/
CATEGORIES:Holy Events,Wedding Ceremony
END:VEVENT
END:VCALENDAR